BEGIN:VCALENDAR
VERSION:2.0
PRODID:-//AfD Pforzheim/Enz - ECPv6.15.20//NONSGML v1.0//EN
CALSCALE:GREGORIAN
METHOD:PUBLISH
X-ORIGINAL-URL:https://afd-pforzheim-enz.de
X-WR-CALDESC:Veranstaltungen für AfD Pforzheim/Enz
REFRESH-INTERVAL;VALUE=DURATION:PT1H
X-Robots-Tag:noindex
X-PUBLISHED-TTL:PT1H
BEGIN:VTIMEZONE
TZID:Europe/Berlin
BEGIN:DAYLIGHT
TZOFFSETFROM:+0100
TZOFFSETTO:+0200
TZNAME:CEST
DTSTART:20230326T010000
END:DAYLIGHT
BEGIN:STANDARD
TZOFFSETFROM:+0200
TZOFFSETTO:+0100
TZNAME:CET
DTSTART:20231029T010000
END:STANDARD
BEGIN:DAYLIGHT
TZOFFSETFROM:+0100
TZOFFSETTO:+0200
TZNAME:CEST
DTSTART:20240331T010000
END:DAYLIGHT
BEGIN:STANDARD
TZOFFSETFROM:+0200
TZOFFSETTO:+0100
TZNAME:CET
DTSTART:20241027T010000
END:STANDARD
BEGIN:DAYLIGHT
TZOFFSETFROM:+0100
TZOFFSETTO:+0200
TZNAME:CEST
DTSTART:20250330T010000
END:DAYLIGHT
BEGIN:STANDARD
TZOFFSETFROM:+0200
TZOFFSETTO:+0100
TZNAME:CET
DTSTART:20251026T010000
END:STANDARD
END:VTIMEZONE
BEGIN:VTIMEZONE
TZID:UTC
BEGIN:STANDARD
TZOFFSETFROM:+0000
TZOFFSETTO:+0000
TZNAME:UTC
DTSTART:20230101T000000
END:STANDARD
END:VTIMEZONE
BEGIN:VEVENT
DTSTART;TZID=Europe/Berlin:20240601T100000
DTEND;TZID=Europe/Berlin:20240601T140000
DTSTAMP:20260422T083146
CREATED:20240520T145214Z
LAST-MODIFIED:20240520T145214Z
UID:5505-1717236000-1717250400@afd-pforzheim-enz.de
SUMMARY:4. Infostand: Pforzheim-Innenstadt
DESCRIPTION:Wir sind für Sie mit unserem Infostand in der Pforzheimer Innenstadt (vor dem Hunkemöller) da.\nKommen Sie doch vorbei und lassen Sie sich von unseren Inhalten überzeugen.\nWir freuen uns auf Sie.
URL:https://afd-pforzheim-enz.de/veranstaltung/4-infostand-pforzheim-innenstadt/
LOCATION:Pforzheim-Innenstadt\, Westliche-Karl-Friedrich-Straße 26\, Pforzheim\, 75172\, Deutschland
CATEGORIES:Infostände
ATTACH;FMTTYPE=image/jpeg:https://afd-pforzheim-enz.de/wp-content/uploads/2024/05/Infostand_next_2-e1716216711932.jpg
END:VEVENT
BEGIN:VEVENT
DTSTART;TZID=Europe/Berlin:20240601T100000
DTEND;TZID=Europe/Berlin:20240601T140000
DTSTAMP:20260422T083146
CREATED:20240524T213634Z
LAST-MODIFIED:20240524T213634Z
UID:5516-1717236000-1717250400@afd-pforzheim-enz.de
SUMMARY:2. Infostand: Knittlingen
DESCRIPTION:Wir sind für Sie mit unserem Infostand in Knittlingen (gegenüber dem Rathaus) da.\nKommen Sie doch vorbei und lassen Sie sich von unseren Inhalten überzeugen.\nWir freuen uns auf Sie.
URL:https://afd-pforzheim-enz.de/veranstaltung/2-infostand-knittlingen/
LOCATION:Knittlingen (gegenüber dem Rathaus)
CATEGORIES:Infostände
ATTACH;FMTTYPE=image/jpeg:https://afd-pforzheim-enz.de/wp-content/uploads/2024/05/Knittlingen-Infostand-e1716586503737.jpg
END:VEVENT
BEGIN:VEVENT
DTSTART;TZID=Europe/Berlin:20240607T180000
DTEND;TZID=Europe/Berlin:20240607T180000
DTSTAMP:20260422T083146
CREATED:20240602T124810Z
LAST-MODIFIED:20240602T132648Z
UID:5529-1717783200-1717783200@afd-pforzheim-enz.de
SUMMARY:Demonstration gegen islamistischen Terror in Mannheim
DESCRIPTION:+++ Aufruf zur Teilnahme an der Demonstration „Entsetzlicher Anschlag auf Michael Stürzenberger und Polizist: Den Gehilfen von islamischem Terror und Massenmigration in Ampel-Regierung und Medien den Stecker ziehen!“ +++ \nWann? Am Freitag\, den 7. Juni 2024\, ab 18 Uhr \nWo? Auf dem Mannheimer Marktplatz im Stadtzentrum – dem gleichen Ort\, an dem Michael Stürzenberger von Sulaiman A. fast ermordet worden wäre. \nMitglieder der Bundesregierung sind als politisch Verantwortliche des Anschlags auf Herrn Stürzenberger unerwünscht und nach § 6 Absatz 1 Versammlungsgesetz von der Teilnahme an der Versammlung ausgeschlossen! \n. \n. \n. \nLiebe Freunde\, \nuns alle hat die bestialische Messerattacke gegen Michael Stürzenberger zutiefst empört und erschüttert. Das Video\, das Gott sei Dank diesen terroristischen Angriff so eindeutig festhalten konnte\, dass weder etablierte Politik noch Medien daran rumdeuteln können\, hat viele von uns ins Mark getroffen. \nEs sind unmögliche\, unerträgliche Bilder eines Landes im Jahr 2024\, in dem friedliche Bürger und Islamkritiker um ihr Leben bangen müssen! Unsere Gedanken und Gebete sind bei allen Opfern dieses fürchterlichen Anschlags. Michael Stürzenberger hat wie jeder Bürger das Recht\, seine Meinung in Wort\, Schrift und Bild zu verbreiten – auch wenn es den importierten Islamisten nicht passt! Früher galt noch der Grundsatz: „Ich hasse\, was du sagst\, aber ich würde mein Leben dafür geben\, dass du es sagen darfst.“ \nIm Deutschland des Jahres 2024 gilt hingegen: „Ich hasse\, was du sagst\, und stecke dir dafür ein Messer ins Gesicht!“. \nWir haben es mit einem Staats- und Elitenversagen in historischem Ausmaß zu tun. Und wir werden nicht länger schweigen. Wir klagen an! \n– Wir klagen eine Ampel-Bundesregierung an\, die der Migrationskatastrophe keinen Einhalt gebietet\, sondern Millionen weiterer Migranten ohne Sinn und Verstand nach Deutschland lässt. Suleiman A. wurde in Afghanistan geboren. Eine Regierung\, die bei Verstand ist\, hätte weder ihn noch irgendwelche anderen islamistischen Psychopathen in unser Land gelassen! \n– Wir klagen eine Bundes- und Landesregierung an\, die durch ihre Stigmatisierung und Diffamierung regierungskritischer Meinungen – insbesondere im Hinblick auf das völlige Versagen bei der effektiven Bekämpfung des Islamismus und der Islamisierung unseres Landes – die Spaltung und Polarisierung unserer Gesellschaft massiv befeuert und dadurch islamistische Täter erst zu ihren abscheulichen Taten ermutigt. \n– Wir klagen diejenigen deutschen Journalisten an\, die sich an der Hetze gegen islamkritische\, freiheitliche\, patriotische und konservative Kräfte in unserer Gesellschaft beteiligen\, die mit ihrem tendenziösen Scheinjournalismus dazu beitragen\, dass ein Partyvideo aus Sylt mit betrunkenen Parolen zu einer Staatsaffäre hochgejazzt wird\, während man sich über das Morden und Messern viel zu vieler Islamisten und Ausländer in unseren Städten geflissentlich ausschweigt. \nDie Infamie bestimmter Medien kennt keine Grenzen\, allen voran wenn die zwangsgebührenfinanzierte Tagesschau Herrn Stürzenberger direkt nach seiner Beinahe-Ermordung als „Islamhasser“ brandmarkt und andeutet\, damit hätte er sein Schicksal selbst verschuldet! Unser Land und unsere Heimat sind in Gefahr! Diese Regierung und diese mediale Negativelite müssen mit allen demokratischen Mitteln abgelöst werden! Kommt alle nach Mannheim und lasst uns ein lautes\, friedliches\, unmissverständliches Zeichen gegen die unerträglichen Zustände in Deutschland setzen! \n  \nMit freundlichen Grüßen \nIhr Landesvorstand der Alternative für Deutschland Baden-Württemberg \nMarkus Frohnmaier (Landesvorsitzender) \nEmil Sänze (Landesvorsitzender) \nMartin Hess (Stv. Landesvorsitzender) \nRuben Rupp (Stv. Landesvorsitzender) \nMarc Bernhard (Stv. Landesvorsitzender) \nJürgen Koegel (Stv. Landesvorsitzender) \nHans-Peter Hörner (Schatzmeister) \nDr. Rainer Podeswa (Stv. Schatzmeister) \nSandro Scheer (Schriftführer) \nLars Haise (Mitglied des Landesvorstandes) \nDiana Zimmer (Mitglied des Landesvorstandes) \nAlexander Arpaschi (Mitglied des Landesvorstandes) \nAnton Baron (Mitglied des Landesvorstandes) \nBenjamin Götz (Mitglied des Landesvorstandes)
URL:https://afd-pforzheim-enz.de/veranstaltung/demonstration-gegen-islamistischen-terror/
LOCATION:Mannheim Marktplatz
CATEGORIES:Veranstaltungen
ATTACH;FMTTYPE=image/jpeg:https://afd-pforzheim-enz.de/wp-content/uploads/2024/06/FB_IMG_1717319071450-e1717330869844.jpg
END:VEVENT
BEGIN:VEVENT
DTSTART;TZID=Europe/Berlin:20240608T100000
DTEND;TZID=Europe/Berlin:20240608T160000
DTSTAMP:20260422T083146
CREATED:20240520T153056Z
LAST-MODIFIED:20240520T153056Z
UID:5508-1717840800-1717862400@afd-pforzheim-enz.de
SUMMARY:5. Infostand: Pforzheim-Innenstadt
DESCRIPTION:Wir sind für Sie mit unserem Infostand in der Pforzheimer Innenstadt (vor dem Hunkemöller) da.\nKommen Sie doch vorbei und lassen Sie sich von unseren Inhalten überzeugen.\nWir freuen uns auf Sie.
URL:https://afd-pforzheim-enz.de/veranstaltung/5-infostand-pforzheim-innenstadt/
LOCATION:Pforzheim-Innenstadt\, Westliche-Karl-Friedrich-Straße 26\, Pforzheim\, 75172\, Deutschland
ATTACH;FMTTYPE=image/jpeg:https://afd-pforzheim-enz.de/wp-content/uploads/2024/05/Infostand_next_3-e1716219029629.jpg
END:VEVENT
BEGIN:VEVENT
DTSTART;TZID=Europe/Berlin:20240608T140000
DTEND;TZID=Europe/Berlin:20240608T140000
DTSTAMP:20260422T083146
CREATED:20240528T170957Z
LAST-MODIFIED:20240528T170957Z
UID:5522-1717855200-1717855200@afd-pforzheim-enz.de
SUMMARY:Kundgebung: Demokratie statt Ampel! in Karlsruhe
DESCRIPTION:Kundgebung: Demokratie statt Ampel! am Samstag\, 8. Juni ab 14 Uhr in Karlsruhe auf dem Marktplatz. Mit Dr. Marc Jongen\, Paul Schmidt\, Marc Bernhard\, Peter Boehringer\, Markus Frohnmaier\, Emil Sänze und Martin Hess.
URL:https://afd-pforzheim-enz.de/veranstaltung/kundgebung-karlsruhe/
LOCATION:Karlsruhe Marktplatz\, Marktplatz\, Karlsruhe\, Deutschland
CATEGORIES:Veranstaltungen
ATTACH;FMTTYPE=image/jpeg:https://afd-pforzheim-enz.de/wp-content/uploads/2024/05/Kundgebung-Karlsruhe.jpg
END:VEVENT
BEGIN:VEVENT
DTSTART;TZID=UTC:20240609T080000
DTEND;TZID=UTC:20240609T180000
DTSTAMP:20260422T083146
CREATED:20231122T124205Z
LAST-MODIFIED:20240420T120023Z
UID:4270-1717920000-1717956000@afd-pforzheim-enz.de
SUMMARY:Kommunalwahl & Europawahl 2024
DESCRIPTION:Am 9. Juni 2024 finden die Europawahl 2024 und die Kommunalwahlen in Baden-Württemberg statt. Bei den Kommunalwahlen werden die Kreistage (Kreisräte)\, die Gemeinderäte (Stadträte) und die Ortschaftsräte neu gewählt. \nWir freuen uns daher über Ihre Stimmen zur Kreistagswahl im Enzkreis\, zur Gemeinderatswahl in Pforzheim\, sowie bei den weiteren Wahlen.
URL:https://afd-pforzheim-enz.de/veranstaltung/kommunalwahl-europawahl/
CATEGORIES:Wahlen
ATTACH;FMTTYPE=image/jpeg:https://afd-pforzheim-enz.de/wp-content/uploads/2023/11/elections-450164-scaled.jpg
END:VEVENT
BEGIN:VEVENT
DTSTART;TZID=UTC:20240621T190000
DTEND;TZID=UTC:20240621T190000
DTSTAMP:20260422T083146
CREATED:20240420T130323Z
LAST-MODIFIED:20240602T132606Z
UID:5207-1718996400-1718996400@afd-pforzheim-enz.de
SUMMARY:Alternative Runde mit zwei MdBs: Sebastian Münzenmaier & Markus Frohnmaier
DESCRIPTION:Alternative Runde mit zwei MdBs: Sebastian Münzenmaier & Markus Frohnmaier
URL:https://afd-pforzheim-enz.de/veranstaltung/alternative-runde-mit-mdb-sebastian-muenzenmaier/
LOCATION:Bekanntgabe nach verbindlicher Anmeldung
CATEGORIES:Alternative Runde
ATTACH;FMTTYPE=image/jpeg:https://afd-pforzheim-enz.de/wp-content/uploads/2024/04/Stammtisch-e1719343862661.jpg
ORGANIZER;CN="AfD Kreisverband Pforzheim/Enz":MAILTO:kontakt@pf-enz.afd-bw.de
END:VEVENT
BEGIN:VEVENT
DTSTART;VALUE=DATE:20240629
DTEND;VALUE=DATE:20240701
DTSTAMP:20260422T083146
CREATED:20240611T143106Z
LAST-MODIFIED:20240611T143215Z
UID:5572-1719619200-1719791999@afd-pforzheim-enz.de
SUMMARY:AfD-Bundesparteitag in Essen
DESCRIPTION:
URL:https://afd-pforzheim-enz.de/veranstaltung/bundesparteitag-in-essen/
LOCATION:Essen
CATEGORIES:Parteitage
ATTACH;FMTTYPE=image/jpeg:https://afd-pforzheim-enz.de/wp-content/uploads/2024/06/IMG-20240524-WA0011-e1718116253230.jpg
END:VEVENT
END:VCALENDAR