BEGIN:VCALENDAR
VERSION:2.0
PRODID:-//AfD Pforzheim/Enz - ECPv6.15.20//NONSGML v1.0//EN
CALSCALE:GREGORIAN
METHOD:PUBLISH
X-ORIGINAL-URL:https://afd-pforzheim-enz.de
X-WR-CALDESC:Veranstaltungen für AfD Pforzheim/Enz
REFRESH-INTERVAL;VALUE=DURATION:PT1H
X-Robots-Tag:noindex
X-PUBLISHED-TTL:PT1H
BEGIN:VTIMEZONE
TZID:Europe/Berlin
BEGIN:DAYLIGHT
TZOFFSETFROM:+0100
TZOFFSETTO:+0200
TZNAME:CEST
DTSTART:20230326T010000
END:DAYLIGHT
BEGIN:STANDARD
TZOFFSETFROM:+0200
TZOFFSETTO:+0100
TZNAME:CET
DTSTART:20231029T010000
END:STANDARD
BEGIN:DAYLIGHT
TZOFFSETFROM:+0100
TZOFFSETTO:+0200
TZNAME:CEST
DTSTART:20240331T010000
END:DAYLIGHT
BEGIN:STANDARD
TZOFFSETFROM:+0200
TZOFFSETTO:+0100
TZNAME:CET
DTSTART:20241027T010000
END:STANDARD
BEGIN:DAYLIGHT
TZOFFSETFROM:+0100
TZOFFSETTO:+0200
TZNAME:CEST
DTSTART:20250330T010000
END:DAYLIGHT
BEGIN:STANDARD
TZOFFSETFROM:+0200
TZOFFSETTO:+0100
TZNAME:CET
DTSTART:20251026T010000
END:STANDARD
END:VTIMEZONE
BEGIN:VEVENT
DTSTART;TZID=Europe/Berlin:20241112T160000
DTEND;TZID=Europe/Berlin:20241112T160000
DTSTAMP:20260422T000955
CREATED:20241025T070022Z
LAST-MODIFIED:20241025T070022Z
UID:5782-1731427200-1731427200@afd-pforzheim-enz.de
SUMMARY:Gemeinderat Stadt Pforzheim
DESCRIPTION:
URL:https://afd-pforzheim-enz.de/veranstaltung/gemeinderat-stadt-pforzheim/
LOCATION:Rathaus Pforzheim\, Marktplatz 1\, Pforzheim\, 75175
END:VEVENT
BEGIN:VEVENT
DTSTART;VALUE=DATE:20241116
DTEND;VALUE=DATE:20241117
DTSTAMP:20260422T000955
CREATED:20241025T065200Z
LAST-MODIFIED:20241025T065200Z
UID:5780-1731715200-1731801599@afd-pforzheim-enz.de
SUMMARY:Landesparteitag der AfD Ba-Wü
DESCRIPTION:
URL:https://afd-pforzheim-enz.de/veranstaltung/landesparteitag-der-afd-ba-wue/
LOCATION:parteiinterne Veranstaltung
CATEGORIES:Mitgliederversammlungen,Parteitage
END:VEVENT
BEGIN:VEVENT
DTSTART;TZID=Europe/Berlin:20241129T183000
DTEND;TZID=Europe/Berlin:20241129T183000
DTSTAMP:20260422T000955
CREATED:20241124T100244Z
LAST-MODIFIED:20241124T100410Z
UID:5817-1732905000-1732905000@afd-pforzheim-enz.de
SUMMARY:Weihnachtsfeier AfD-Gemeinderatsfraktion Bretten
DESCRIPTION:Mit: \n\nDiana Zimmer\, StR\, Mitglied des Landesvorstandes AfD Ba-Wü\nAnton Baron\, MdL\, Fraktionsvorsitzender AfD-Landtagsfraktion Ba-Wü\nMarc Bernhard\, MdB\, stellv. Sprecher AfD Ba-Wü\n\n 
URL:https://afd-pforzheim-enz.de/veranstaltung/weihnachtsfeier-afd-gemeinderatsfraktion-bretten/
LOCATION:Gasthaus Zum Lamm\, Diedelsheimer Str. 2\, 75015 Bretten
CATEGORIES:Veranstaltungen
ATTACH;FMTTYPE=image/jpeg:https://afd-pforzheim-enz.de/wp-content/uploads/2024/11/WhatsApp-Image-2024-11-21-at-12.13.12-e1732442644875.jpeg
END:VEVENT
BEGIN:VEVENT
DTSTART;TZID=Europe/Berlin:20241129T190000
DTEND;TZID=Europe/Berlin:20241129T190000
DTSTAMP:20260422T000955
CREATED:20241118T182912Z
LAST-MODIFIED:20241124T094237Z
UID:5792-1732906800-1732906800@afd-pforzheim-enz.de
SUMMARY:Stammtisch mit Martin Hess\, MdB
DESCRIPTION:Der stellv. Landesvorsitzende und innenpolitische Sprecher der AfD-Bundestagsfraktion Martin Hess\, MdB\, besucht am 29.11.2024 ab 19.00 Uhr Neuhausen!  \nBegleitet wird der Abend von unserem Kreisrat vor Ort\, Torsten Steidel. \nWir freuen uns auf Ihr Kommen!
URL:https://afd-pforzheim-enz.de/veranstaltung/stammtisch-mit-martin-hess-mdb/
LOCATION:Gaststätte Hirsch\, Hohenwarter Str. 17\, 75242 Neuhausen
CATEGORIES:Alternative Runde
ATTACH;FMTTYPE=image/jpeg:https://afd-pforzheim-enz.de/wp-content/uploads/2024/11/5332467503512807174.jpg
END:VEVENT
END:VCALENDAR