BEGIN:VCALENDAR
VERSION:2.0
PRODID:-//AfD Pforzheim/Enz - ECPv6.15.20//NONSGML v1.0//EN
CALSCALE:GREGORIAN
METHOD:PUBLISH
X-ORIGINAL-URL:https://afd-pforzheim-enz.de
X-WR-CALDESC:Veranstaltungen für AfD Pforzheim/Enz
REFRESH-INTERVAL;VALUE=DURATION:PT1H
X-Robots-Tag:noindex
X-PUBLISHED-TTL:PT1H
BEGIN:VTIMEZONE
TZID:Europe/Berlin
BEGIN:DAYLIGHT
TZOFFSETFROM:+0100
TZOFFSETTO:+0200
TZNAME:CEST
DTSTART:20230326T010000
END:DAYLIGHT
BEGIN:STANDARD
TZOFFSETFROM:+0200
TZOFFSETTO:+0100
TZNAME:CET
DTSTART:20231029T010000
END:STANDARD
BEGIN:DAYLIGHT
TZOFFSETFROM:+0100
TZOFFSETTO:+0200
TZNAME:CEST
DTSTART:20240331T010000
END:DAYLIGHT
BEGIN:STANDARD
TZOFFSETFROM:+0200
TZOFFSETTO:+0100
TZNAME:CET
DTSTART:20241027T010000
END:STANDARD
BEGIN:DAYLIGHT
TZOFFSETFROM:+0100
TZOFFSETTO:+0200
TZNAME:CEST
DTSTART:20250330T010000
END:DAYLIGHT
BEGIN:STANDARD
TZOFFSETFROM:+0200
TZOFFSETTO:+0100
TZNAME:CET
DTSTART:20251026T010000
END:STANDARD
END:VTIMEZONE
BEGIN:VEVENT
DTSTART;TZID=Europe/Berlin:20241214T100000
DTEND;TZID=Europe/Berlin:20241214T100000
DTSTAMP:20260421T222951
CREATED:20241205T214410Z
LAST-MODIFIED:20241205T214512Z
UID:5838-1734170400-1734170400@afd-pforzheim-enz.de
SUMMARY:Infostand
DESCRIPTION:
URL:https://afd-pforzheim-enz.de/veranstaltung/knittlinger-stammtisch-3/
LOCATION:Bekanntgabe nach verbindlicher Anmeldung
CATEGORIES:Infostände
END:VEVENT
BEGIN:VEVENT
DTSTART;TZID=Europe/Berlin:20241215T180000
DTEND;TZID=Europe/Berlin:20241215T180000
DTSTAMP:20260421T222951
CREATED:20241205T214940Z
LAST-MODIFIED:20241205T215052Z
UID:5845-1734285600-1734285600@afd-pforzheim-enz.de
SUMMARY:Knittlinger Stammtisch
DESCRIPTION:
URL:https://afd-pforzheim-enz.de/veranstaltung/knittlinger-stammtisch-4/
LOCATION:Maddox Club Bar\, Freudensteiner Str. 2/1\, Knittlingen
CATEGORIES:Alternative Runde,Veranstaltungen
ATTACH;FMTTYPE=image/jpeg:https://afd-pforzheim-enz.de/wp-content/uploads/2024/12/WhatsApp-Image-2024-12-05-at-20.01.49-e1733435432880.jpeg
END:VEVENT
BEGIN:VEVENT
DTSTART;TZID=Europe/Berlin:20241217T160000
DTEND;TZID=Europe/Berlin:20241217T160000
DTSTAMP:20260421T222951
CREATED:20241025T070115Z
LAST-MODIFIED:20241025T070115Z
UID:5785-1734451200-1734451200@afd-pforzheim-enz.de
SUMMARY:Gemeinderat Stadt Pforzheim
DESCRIPTION:
URL:https://afd-pforzheim-enz.de/veranstaltung/gemeinderat-stadt-pforzheim-2/
LOCATION:Rathaus Pforzheim\, Marktplatz 1\, Pforzheim\, 75175
END:VEVENT
BEGIN:VEVENT
DTSTART;TZID=Europe/Berlin:20241221T100000
DTEND;TZID=Europe/Berlin:20241221T140000
DTSTAMP:20260421T222951
CREATED:20241205T214650Z
LAST-MODIFIED:20241220T161210Z
UID:5843-1734775200-1734789600@afd-pforzheim-enz.de
SUMMARY:Infostand
DESCRIPTION:
URL:https://afd-pforzheim-enz.de/veranstaltung/infostand/
LOCATION:Leopoldstraße\, Pforzheim
CATEGORIES:Infostände
END:VEVENT
END:VCALENDAR