BEGIN:VCALENDAR
VERSION:2.0
PRODID:-//AfD Pforzheim/Enz - ECPv6.15.20//NONSGML v1.0//EN
CALSCALE:GREGORIAN
METHOD:PUBLISH
X-WR-CALNAME:AfD Pforzheim/Enz
X-ORIGINAL-URL:https://afd-pforzheim-enz.de
X-WR-CALDESC:Veranstaltungen für AfD Pforzheim/Enz
REFRESH-INTERVAL;VALUE=DURATION:PT1H
X-Robots-Tag:noindex
X-PUBLISHED-TTL:PT1H
BEGIN:VTIMEZONE
TZID:Europe/Berlin
BEGIN:DAYLIGHT
TZOFFSETFROM:+0100
TZOFFSETTO:+0200
TZNAME:CEST
DTSTART:20240331T010000
END:DAYLIGHT
BEGIN:STANDARD
TZOFFSETFROM:+0200
TZOFFSETTO:+0100
TZNAME:CET
DTSTART:20241027T010000
END:STANDARD
BEGIN:DAYLIGHT
TZOFFSETFROM:+0100
TZOFFSETTO:+0200
TZNAME:CEST
DTSTART:20250330T010000
END:DAYLIGHT
BEGIN:STANDARD
TZOFFSETFROM:+0200
TZOFFSETTO:+0100
TZNAME:CET
DTSTART:20251026T010000
END:STANDARD
BEGIN:DAYLIGHT
TZOFFSETFROM:+0100
TZOFFSETTO:+0200
TZNAME:CEST
DTSTART:20260329T010000
END:DAYLIGHT
BEGIN:STANDARD
TZOFFSETFROM:+0200
TZOFFSETTO:+0100
TZNAME:CET
DTSTART:20261025T010000
END:STANDARD
END:VTIMEZONE
BEGIN:VEVENT
DTSTART;TZID=Europe/Berlin:20250109T190000
DTEND;TZID=Europe/Berlin:20250109T190000
DTSTAMP:20260421T204913
CREATED:20250107T100011Z
LAST-MODIFIED:20250107T100011Z
UID:5872-1736449200-1736449200@afd-pforzheim-enz.de
SUMMARY:Alice Weidel live mit Elon Musk!
DESCRIPTION:
URL:https://afd-pforzheim-enz.de/veranstaltung/alice-weidel-live-mit-elon-musk/
LOCATION:Online auf X
CATEGORIES:Veranstaltungen
ATTACH;FMTTYPE=image/jpeg:https://afd-pforzheim-enz.de/wp-content/uploads/2025/01/IMG-20250103-WA0056.jpg
END:VEVENT
BEGIN:VEVENT
DTSTART;VALUE=DATE:20250110
DTEND;VALUE=DATE:20250113
DTSTAMP:20260421T204913
CREATED:20241220T160510Z
LAST-MODIFIED:20241220T160510Z
UID:5858-1736467200-1736726399@afd-pforzheim-enz.de
SUMMARY:Bundesparteitag in Riesa
DESCRIPTION:
URL:https://afd-pforzheim-enz.de/veranstaltung/bundesparteitag-in-riesa/
LOCATION:Riesa
CATEGORIES:Parteitage
END:VEVENT
BEGIN:VEVENT
DTSTART;TZID=Europe/Berlin:20250115T180000
DTEND;TZID=Europe/Berlin:20250115T210000
DTSTAMP:20260421T204913
CREATED:20241220T160557Z
LAST-MODIFIED:20250107T100804Z
UID:5861-1736964000-1736974800@afd-pforzheim-enz.de
SUMMARY:Wahlkampfauftakt in Remchingen: Deutschland zuerst!
DESCRIPTION:
URL:https://afd-pforzheim-enz.de/veranstaltung/wahlkampfauftakt/
LOCATION:Kulturhalle Remchingen\, Hauptstraße 115\, Remchingen\, 75196\, Deutschland
CATEGORIES:Veranstaltungen
ATTACH;FMTTYPE=image/jpeg:https://afd-pforzheim-enz.de/wp-content/uploads/2024/12/Einladung_Remchingen-scaled.jpg
END:VEVENT
BEGIN:VEVENT
DTSTART;TZID=Europe/Berlin:20250122T190000
DTEND;TZID=Europe/Berlin:20250122T190000
DTSTAMP:20260421T204913
CREATED:20250107T100558Z
LAST-MODIFIED:20250107T100558Z
UID:5880-1737572400-1737572400@afd-pforzheim-enz.de
SUMMARY:Wahlkampfveranstaltung: Tino Chrupalla und Diana Zimmer in Leonberg!
DESCRIPTION:
URL:https://afd-pforzheim-enz.de/veranstaltung/wahlkampfveranstaltung-tino-chrupalla-und-diana-zimmer-in-leonberg/
LOCATION:Stadthalle Leonberg\, Römerstraße 110\, Leonberg\, 71229
CATEGORIES:Wahlen
ATTACH;FMTTYPE=image/png:https://afd-pforzheim-enz.de/wp-content/uploads/2025/01/Leonberg-22.01.png
END:VEVENT
BEGIN:VEVENT
DTSTART;TZID=Europe/Berlin:20250125T120000
DTEND;TZID=Europe/Berlin:20250125T190000
DTSTAMP:20260421T204913
CREATED:20241220T161121Z
LAST-MODIFIED:20241220T161121Z
UID:5866-1737806400-1737831600@afd-pforzheim-enz.de
SUMMARY:Wahlkampfauftakt mit ALICE WEIDEL in Halle/Saale (Messegelände)
DESCRIPTION:
URL:https://afd-pforzheim-enz.de/veranstaltung/wahlkampfauftakt-mit-alice-weidel-in-halle-saale-messegelaende/
LOCATION:Halle Messe Arena\, Messestraße 10\, Halle/Saale\, 06116
CATEGORIES:Veranstaltungen
END:VEVENT
END:VCALENDAR