BEGIN:VCALENDAR
VERSION:2.0
PRODID:-//AfD Pforzheim/Enz - ECPv6.15.20//NONSGML v1.0//EN
CALSCALE:GREGORIAN
METHOD:PUBLISH
X-WR-CALNAME:AfD Pforzheim/Enz
X-ORIGINAL-URL:https://afd-pforzheim-enz.de
X-WR-CALDESC:Veranstaltungen für AfD Pforzheim/Enz
REFRESH-INTERVAL;VALUE=DURATION:PT1H
X-Robots-Tag:noindex
X-PUBLISHED-TTL:PT1H
BEGIN:VTIMEZONE
TZID:Europe/Berlin
BEGIN:DAYLIGHT
TZOFFSETFROM:+0100
TZOFFSETTO:+0200
TZNAME:CEST
DTSTART:20240331T010000
END:DAYLIGHT
BEGIN:STANDARD
TZOFFSETFROM:+0200
TZOFFSETTO:+0100
TZNAME:CET
DTSTART:20241027T010000
END:STANDARD
BEGIN:DAYLIGHT
TZOFFSETFROM:+0100
TZOFFSETTO:+0200
TZNAME:CEST
DTSTART:20250330T010000
END:DAYLIGHT
BEGIN:STANDARD
TZOFFSETFROM:+0200
TZOFFSETTO:+0100
TZNAME:CET
DTSTART:20251026T010000
END:STANDARD
BEGIN:DAYLIGHT
TZOFFSETFROM:+0100
TZOFFSETTO:+0200
TZNAME:CEST
DTSTART:20260329T010000
END:DAYLIGHT
BEGIN:STANDARD
TZOFFSETFROM:+0200
TZOFFSETTO:+0100
TZNAME:CET
DTSTART:20261025T010000
END:STANDARD
END:VTIMEZONE
BEGIN:VEVENT
DTSTART;TZID=Europe/Berlin:20250705T090000
DTEND;TZID=Europe/Berlin:20250705T130000
DTSTAMP:20260421T113958
CREATED:20250701T125148Z
LAST-MODIFIED:20250708T125418Z
UID:6146-1751706000-1751720400@afd-pforzheim-enz.de
SUMMARY:Infostand: Windräder in Remchingen?
DESCRIPTION:
URL:https://afd-pforzheim-enz.de/veranstaltung/infostand-windraeder-in-remchingen/
LOCATION:Hauptstraße 79\, 75196 Remchingen
CATEGORIES:Infostände
ATTACH;FMTTYPE=image/jpeg:https://afd-pforzheim-enz.de/wp-content/uploads/2025/07/photo_5413481934018966549_y.jpg
END:VEVENT
BEGIN:VEVENT
DTSTART;TZID=Europe/Berlin:20250706T180000
DTEND;TZID=Europe/Berlin:20250706T180000
DTSTAMP:20260421T113958
CREATED:20250701T125723Z
LAST-MODIFIED:20250708T132951Z
UID:6151-1751824800-1751824800@afd-pforzheim-enz.de
SUMMARY:Stammtisch OV Westlicher Enzkreis
DESCRIPTION:Mit Diana Zimmer\, MdB\, mit einem Bericht aus Berlin.
URL:https://afd-pforzheim-enz.de/veranstaltung/stammtisch-ov-westlicher-enzkreis/
LOCATION:Bekanntgabe nach verbindlicher Anmeldung
CATEGORIES:Alternative Runde,Veranstaltungen
END:VEVENT
BEGIN:VEVENT
DTSTART;TZID=Europe/Berlin:20250726T140000
DTEND;TZID=Europe/Berlin:20250726T190000
DTSTAMP:20260421T113958
CREATED:20250708T131422Z
LAST-MODIFIED:20250708T131422Z
UID:6166-1753538400-1753556400@afd-pforzheim-enz.de
SUMMARY:Wahlkreisbüroeröffnung Diana Zimmer\, MdB
DESCRIPTION:
URL:https://afd-pforzheim-enz.de/veranstaltung/wahlkreisbueroeroeffnung-diana-zimmer-mdb/
LOCATION:Bekanntgabe nach verbindlicher Anmeldung
CATEGORIES:Besuchstage,Veranstaltungen
END:VEVENT
BEGIN:VEVENT
DTSTART;TZID=Europe/Berlin:20250727T130000
DTEND;TZID=Europe/Berlin:20250727T130000
DTSTAMP:20260421T113958
CREATED:20250722T141256Z
LAST-MODIFIED:20250722T141256Z
UID:6186-1753621200-1753621200@afd-pforzheim-enz.de
SUMMARY:Stammtisch OV Östlicher Enzkreis
DESCRIPTION:
URL:https://afd-pforzheim-enz.de/veranstaltung/stammtisch-ov-oestlicher-enzkreis/
LOCATION:Maddox Club Bar\, Freudensteiner Str. 2/1\, Knittlingen
CATEGORIES:Alternative Runde,Veranstaltungen
END:VEVENT
END:VCALENDAR