BEGIN:VCALENDAR
VERSION:2.0
PRODID:-//AfD Pforzheim/Enz - ECPv6.15.20//NONSGML v1.0//EN
CALSCALE:GREGORIAN
METHOD:PUBLISH
X-ORIGINAL-URL:https://afd-pforzheim-enz.de
X-WR-CALDESC:Veranstaltungen für AfD Pforzheim/Enz
REFRESH-INTERVAL;VALUE=DURATION:PT1H
X-Robots-Tag:noindex
X-PUBLISHED-TTL:PT1H
BEGIN:VTIMEZONE
TZID:Europe/Berlin
BEGIN:DAYLIGHT
TZOFFSETFROM:+0100
TZOFFSETTO:+0200
TZNAME:CEST
DTSTART:20240331T010000
END:DAYLIGHT
BEGIN:STANDARD
TZOFFSETFROM:+0200
TZOFFSETTO:+0100
TZNAME:CET
DTSTART:20241027T010000
END:STANDARD
BEGIN:DAYLIGHT
TZOFFSETFROM:+0100
TZOFFSETTO:+0200
TZNAME:CEST
DTSTART:20250330T010000
END:DAYLIGHT
BEGIN:STANDARD
TZOFFSETFROM:+0200
TZOFFSETTO:+0100
TZNAME:CET
DTSTART:20251026T010000
END:STANDARD
BEGIN:DAYLIGHT
TZOFFSETFROM:+0100
TZOFFSETTO:+0200
TZNAME:CEST
DTSTART:20260329T010000
END:DAYLIGHT
BEGIN:STANDARD
TZOFFSETFROM:+0200
TZOFFSETTO:+0100
TZNAME:CET
DTSTART:20261025T010000
END:STANDARD
END:VTIMEZONE
BEGIN:VEVENT
DTSTART;TZID=Europe/Berlin:20250217T180000
DTEND;TZID=Europe/Berlin:20250217T180000
DTSTAMP:20260419T173340
CREATED:20250210T183712Z
LAST-MODIFIED:20250210T183833Z
UID:5913-1739815200-1739815200@afd-pforzheim-enz.de
SUMMARY:Wahlkampf-Abschluss in Pforzheim am 17.02.2025
DESCRIPTION:Liebe Mitglieder und Freunde der AfD Baden-Württemberg\, \nam 17. Februar 2025 laden wir Sie herzlich zu unserem großen Wahlkampf-Abschluss in Pforzheim ein! \nNutzen Sie diese Gelegenheit\, um mit uns ein starkes Zeichen zu setzen und gemeinsam ein kraftvolles Signal für eine echte politische Wende zu senden. \nVeranstaltungsdetails \n\nOrt: CongressCentrum Pforzheim\, Bertha-Benz-Platz 1\, 75172 Pforzheim\nDatum: Montag\, 17.02.2025\nEinlass: 18:00 Uhr\nBeginn: 19:00 Uhr\n\nEs sprechen \n\nBeatrix von Storch\, MdB – Stellvertretende Vorsitzende der AfD-Bundestagsfraktion\nMarkus Frohnmaier\, MdB – Landesvorsitzender der AfD Baden-Württemberg\nMartin Hess\, MdB – Stellvertretender Landesvorsitzender der AfD Baden-Württemberg\nMarc Bernhard\, MdB – Stellvertretender Landesvorsitzender AfD Baden-Württemberg\nDiana Zimmer – Kreisvorsitzende in Pforzheim und Listenkandidatin für die Bundestagswahl\n\nDeutschland zuerst – für eine Politik mit klarer Richtung!\nDiese Veranstaltung markiert den feierlichen Abschluss unseres Wahlkampfes.\nGemeinsam blicken wir auf die intensiven Wochen zurück und setzen ein starkes Zeichen für eine politische Wende. Unsere Redner werden zentrale Themen aufgreifen\, Bilanz ziehen und den Weg für die kommenden Herausforderungen aufzeigen. \nJetzt ist die Zeit für Veränderung! Jetzt ist Zeit für Deutschland! \nBringen Sie gerne Freunde und Bekannte mit und bewerben Sie die Veranstaltung in Ihrem Umfeld! \nWir freuen uns auf Ihre Teilnahme.
URL:https://afd-pforzheim-enz.de/veranstaltung/wahlkampf-abschluss-in-pforzheim-am-17-02-2025/
LOCATION:CongressCentrum Pforzheim\, Bertha-Benz-Platz 1\, Pforzheim\, 75172
CATEGORIES:Veranstaltungen,Wahlen
ATTACH;FMTTYPE=image/png:https://afd-pforzheim-enz.de/wp-content/uploads/2025/02/AfD-BW-Wahlkampf-Abschluss-in-Pforzheim-am-17.02.2025.png
END:VEVENT
END:VCALENDAR