BEGIN:VCALENDAR
VERSION:2.0
PRODID:-//AfD Pforzheim/Enz - ECPv6.15.20//NONSGML v1.0//EN
CALSCALE:GREGORIAN
METHOD:PUBLISH
X-ORIGINAL-URL:https://afd-pforzheim-enz.de
X-WR-CALDESC:Veranstaltungen für AfD Pforzheim/Enz
REFRESH-INTERVAL;VALUE=DURATION:PT1H
X-Robots-Tag:noindex
X-PUBLISHED-TTL:PT1H
BEGIN:VTIMEZONE
TZID:UTC
BEGIN:STANDARD
TZOFFSETFROM:+0000
TZOFFSETTO:+0000
TZNAME:UTC
DTSTART:20230101T000000
END:STANDARD
END:VTIMEZONE
BEGIN:VEVENT
DTSTART;TZID=UTC:20240426T190000
DTEND;TZID=UTC:20240426T190000
DTSTAMP:20260422T074853
CREATED:20240422T075459Z
LAST-MODIFIED:20240422T075515Z
UID:5343-1714158000-1714158000@afd-pforzheim-enz.de
SUMMARY:Vortrag Dr. Rainer Balzer: Die Alternative zum Niedergang unseres Landes
DESCRIPTION:Vortrag des Abgeordneten Dr. Rainer Balzer: Die Alternative zum Niedergang unseres Landes. \nEinlass ab 18 Uhr\, Beginn um 19 Uhr.
URL:https://afd-pforzheim-enz.de/veranstaltung/balzer-eisingen/
LOCATION:Bohrrainhalle\, Bohrrainstr. 4\, Eisingen (Baden)\, 75239\, Deutschland
CATEGORIES:Veranstaltungen
ATTACH;FMTTYPE=image/jpeg:https://afd-pforzheim-enz.de/wp-content/uploads/2024/04/Eisingen.jpg
ORGANIZER;CN="AfD Kreisverband Pforzheim/Enz":MAILTO:kontakt@pf-enz.afd-bw.de
END:VEVENT
END:VCALENDAR