BEGIN:VCALENDAR
VERSION:2.0
PRODID:-//AfD Pforzheim/Enz - ECPv6.15.20//NONSGML v1.0//EN
CALSCALE:GREGORIAN
METHOD:PUBLISH
X-ORIGINAL-URL:https://afd-pforzheim-enz.de
X-WR-CALDESC:Veranstaltungen für AfD Pforzheim/Enz
REFRESH-INTERVAL;VALUE=DURATION:PT1H
X-Robots-Tag:noindex
X-PUBLISHED-TTL:PT1H
BEGIN:VTIMEZONE
TZID:Europe/Berlin
BEGIN:DAYLIGHT
TZOFFSETFROM:+0100
TZOFFSETTO:+0200
TZNAME:CEST
DTSTART:20230326T010000
END:DAYLIGHT
BEGIN:STANDARD
TZOFFSETFROM:+0200
TZOFFSETTO:+0100
TZNAME:CET
DTSTART:20231029T010000
END:STANDARD
BEGIN:DAYLIGHT
TZOFFSETFROM:+0100
TZOFFSETTO:+0200
TZNAME:CEST
DTSTART:20240331T010000
END:DAYLIGHT
BEGIN:STANDARD
TZOFFSETFROM:+0200
TZOFFSETTO:+0100
TZNAME:CET
DTSTART:20241027T010000
END:STANDARD
BEGIN:DAYLIGHT
TZOFFSETFROM:+0100
TZOFFSETTO:+0200
TZNAME:CEST
DTSTART:20250330T010000
END:DAYLIGHT
BEGIN:STANDARD
TZOFFSETFROM:+0200
TZOFFSETTO:+0100
TZNAME:CET
DTSTART:20251026T010000
END:STANDARD
END:VTIMEZONE
BEGIN:VEVENT
DTSTART;TZID=Europe/Berlin:20240608T140000
DTEND;TZID=Europe/Berlin:20240608T140000
DTSTAMP:20260421T233622
CREATED:20240528T170957Z
LAST-MODIFIED:20240528T170957Z
UID:5522-1717855200-1717855200@afd-pforzheim-enz.de
SUMMARY:Kundgebung: Demokratie statt Ampel! in Karlsruhe
DESCRIPTION:Kundgebung: Demokratie statt Ampel! am Samstag\, 8. Juni ab 14 Uhr in Karlsruhe auf dem Marktplatz. Mit Dr. Marc Jongen\, Paul Schmidt\, Marc Bernhard\, Peter Boehringer\, Markus Frohnmaier\, Emil Sänze und Martin Hess.
URL:https://afd-pforzheim-enz.de/veranstaltung/kundgebung-karlsruhe/
LOCATION:Karlsruhe Marktplatz\, Marktplatz\, Karlsruhe\, Deutschland
CATEGORIES:Veranstaltungen
ATTACH;FMTTYPE=image/jpeg:https://afd-pforzheim-enz.de/wp-content/uploads/2024/05/Kundgebung-Karlsruhe.jpg
END:VEVENT
END:VCALENDAR